BEGIN:VCALENDAR
VERSION:2.0
CALSCALE:GREGORIAN
PRODID:-//Diputació de Barcelona//DibaCMS//EN
BEGIN:VEVENT
UID:6350
DTSTAMP:20260423T210444
DTSTART:20120327T180000
DTEND:20120327T000000
SUMMARY:Dia Internacional del Llibre Infantil: realització d'un vídeo promocional de lectura amb els infants com a protagonistes
LOCATION:
METHOD:PUBLISH
X-WR-CALNAME:caldesm@caldesdemontbui.cat
X-WR-TIMEZONE:Europe/Madrid
DESCRIPTION:
URI:https://www.caldesdemontbui.cat/actualitat/agenda/dia-internacional-del-llibre-infantil-realitzacio-dun-video-promocional-de-lectura-amb-els-infants-com-a-protagonistes.html
CLASS:PUBLIC
END:VEVENT
END:VCALENDAR
