BEGIN:VCALENDAR
VERSION:2.0
CALSCALE:GREGORIAN
PRODID:-//Diputació de Barcelona//DibaCMS//EN
BEGIN:VEVENT
UID:6349
DTSTAMP:20260424T123321
DTSTART:20120326T190000
DTEND:20120326T000000
SUMMARY:Club de lectura a la Biblioteca de Caldes. Xerrada sobre l'obra de Sarah Waters, Falsa Identitat
LOCATION:
METHOD:PUBLISH
X-WR-CALNAME:caldesm@caldesdemontbui.cat
X-WR-TIMEZONE:Europe/Madrid
DESCRIPTION:
URI:https://www.caldesdemontbui.cat/actualitat/agenda/club-de-lectura-a-la-biblioteca-de-caldes-xerrada-sobre-lobra-de-sarah-waters-falsa-identitat.html
CLASS:PUBLIC
END:VEVENT
END:VCALENDAR
