BEGIN:VCALENDAR
VERSION:2.0
CALSCALE:GREGORIAN
PRODID:-//Diputació de Barcelona//DibaCMS//EN
BEGIN:VEVENT
UID:6347
DTSTAMP:20260424T123250
DTSTART:20120325T180000
DTEND:20120325T000000
SUMMARY:Espectacle "Síntesi", de l'Esbart Ciutat Comtal
LOCATION:
METHOD:PUBLISH
X-WR-CALNAME:caldesm@caldesdemontbui.cat
X-WR-TIMEZONE:Europe/Madrid
DESCRIPTION:
URI:https://www.caldesdemontbui.cat/actualitat/agenda/espectacle-sintesi-de-lesbart-ciutat-comtal.html
CLASS:PUBLIC
END:VEVENT
END:VCALENDAR
