BEGIN:VCALENDAR
VERSION:2.0
CALSCALE:GREGORIAN
PRODID:-//Diputació de Barcelona//DibaCMS//EN
BEGIN:VEVENT
UID:6346
DTSTAMP:20260424T085816
DTSTART:20120325T180000
DTEND:20120325T000000
SUMMARY:Taca'm 2012: La Rambla de les floristes, a càrrec de Teatre pels Descosits
LOCATION:
METHOD:PUBLISH
X-WR-CALNAME:caldesm@caldesdemontbui.cat
X-WR-TIMEZONE:Europe/Madrid
DESCRIPTION:
URI:https://www.caldesdemontbui.cat/actualitat/agenda/tacam-2012-la-rambla-de-les-floristes-a-carrec-de-teatre-pels-descosits.html
CLASS:PUBLIC
END:VEVENT
END:VCALENDAR
