BEGIN:VCALENDAR
VERSION:2.0
CALSCALE:GREGORIAN
PRODID:-//Diputació de Barcelona//DibaCMS//EN
BEGIN:VEVENT
UID:6345
DTSTAMP:20260424T052258
DTSTART:20120325T000000
DTEND:20120325T000000
SUMMARY:Caminada: 6a etapa del Camí de Sant Jaume entre Amer i Sant Esteve d'en Bas
LOCATION:
METHOD:PUBLISH
X-WR-CALNAME:caldesm@caldesdemontbui.cat
X-WR-TIMEZONE:Europe/Madrid
DESCRIPTION:
URI:https://www.caldesdemontbui.cat/actualitat/agenda/caminada-6a-etapa-del-cami-de-sant-jaume-entre-amer-i-sant-esteve-den-bas.html
CLASS:PUBLIC
END:VEVENT
END:VCALENDAR
