BEGIN:VCALENDAR
VERSION:2.0
CALSCALE:GREGORIAN
PRODID:-//Diputació de Barcelona//DibaCMS//EN
BEGIN:VEVENT
UID:6344
DTSTAMP:20260424T024517
DTSTART:20120324T170000
DTEND:20120324T000000
SUMMARY:Homenatge als socis de 90 anys
LOCATION:
METHOD:PUBLISH
X-WR-CALNAME:caldesm@caldesdemontbui.cat
X-WR-TIMEZONE:Europe/Madrid
DESCRIPTION:
URI:https://www.caldesdemontbui.cat/actualitat/agenda/homenatge-als-socis-de-90-anys.html
CLASS:PUBLIC
END:VEVENT
END:VCALENDAR
