BEGIN:VCALENDAR
VERSION:2.0
CALSCALE:GREGORIAN
PRODID:-//Diputació de Barcelona//DibaCMS//EN
BEGIN:VEVENT
UID:6342
DTSTAMP:20260424T143911
DTSTART:20120324T100000
DTEND:20120324T000000
SUMMARY:Cicle endolcim la vida: muntatge i decoració de la Mona
LOCATION:
METHOD:PUBLISH
X-WR-CALNAME:caldesm@caldesdemontbui.cat
X-WR-TIMEZONE:Europe/Madrid
DESCRIPTION:
URI:https://www.caldesdemontbui.cat/actualitat/agenda/cicle-endolcim-la-vida-muntatge-i-decoracio-de-la-mona.html
CLASS:PUBLIC
END:VEVENT
END:VCALENDAR
