BEGIN:VCALENDAR
VERSION:2.0
CALSCALE:GREGORIAN
PRODID:-//Diputació de Barcelona//DibaCMS//EN
BEGIN:VEVENT
UID:6341
DTSTAMP:20260424T052358
DTSTART:20120323T202500
DTEND:20120323T000000
SUMMARY:5è campionat Ral·lislot 2012 - Ral·li de Mèxic
LOCATION:
METHOD:PUBLISH
X-WR-CALNAME:caldesm@caldesdemontbui.cat
X-WR-TIMEZONE:Europe/Madrid
DESCRIPTION:
URI:https://www.caldesdemontbui.cat/actualitat/agenda/5e-campionat-rallislot-2012---ralli-de-mexic.html
CLASS:PUBLIC
END:VEVENT
END:VCALENDAR
