BEGIN:VCALENDAR
VERSION:2.0
CALSCALE:GREGORIAN
PRODID:-//Diputació de Barcelona//DibaCMS//EN
BEGIN:VEVENT
UID:6340
DTSTAMP:20260424T121704
DTSTART:20120323T190000
DTEND:20120323T000000
SUMMARY:Xerrada: Descobreix el món dels ocells
LOCATION:
METHOD:PUBLISH
X-WR-CALNAME:caldesm@caldesdemontbui.cat
X-WR-TIMEZONE:Europe/Madrid
DESCRIPTION:
URI:https://www.caldesdemontbui.cat/actualitat/agenda/xerrada-descobreix-el-mon-dels-ocells.html
CLASS:PUBLIC
END:VEVENT
END:VCALENDAR
