BEGIN:VCALENDAR
VERSION:2.0
CALSCALE:GREGORIAN
PRODID:-//Diputació de Barcelona//DibaCMS//EN
BEGIN:VEVENT
UID:6339
DTSTAMP:20260424T020832
DTSTART:20120321T160000
DTEND:20120321T000000
SUMMARY:Festa de la primavera
LOCATION:
METHOD:PUBLISH
X-WR-CALNAME:caldesm@caldesdemontbui.cat
X-WR-TIMEZONE:Europe/Madrid
DESCRIPTION:
URI:https://www.caldesdemontbui.cat/actualitat/agenda/festa-de-la-primavera.html
CLASS:PUBLIC
END:VEVENT
END:VCALENDAR
