BEGIN:VCALENDAR
VERSION:2.0
CALSCALE:GREGORIAN
PRODID:-//Diputació de Barcelona//DibaCMS//EN
BEGIN:VEVENT
UID:6338
DTSTAMP:20260424T004423
DTSTART:20120321T120000
DTEND:20120321T000000
SUMMARY:Trobada i calçotada del grup de Colònies
LOCATION:
METHOD:PUBLISH
X-WR-CALNAME:caldesm@caldesdemontbui.cat
X-WR-TIMEZONE:Europe/Madrid
DESCRIPTION:
URI:https://www.caldesdemontbui.cat/actualitat/agenda/trobada-i-calcotada-del-grup-de-colonies.html
CLASS:PUBLIC
END:VEVENT
END:VCALENDAR
