BEGIN:VCALENDAR
VERSION:2.0
CALSCALE:GREGORIAN
PRODID:-//Diputació de Barcelona//DibaCMS//EN
BEGIN:VEVENT
UID:6337
DTSTAMP:20260424T070442
DTSTART:20120321T090000
DTEND:20120321T000000
SUMMARY:Caminades de l'Esplai: sortida "A cent cap als cent" a Caldes de Montbui 
LOCATION:
METHOD:PUBLISH
X-WR-CALNAME:caldesm@caldesdemontbui.cat
X-WR-TIMEZONE:Europe/Madrid
DESCRIPTION:
URI:https://www.caldesdemontbui.cat/actualitat/agenda/caminades-de-lesplai-sortida-a-cent-cap-als-cent-a-caldes-de-montbui-.html
CLASS:PUBLIC
END:VEVENT
END:VCALENDAR
