BEGIN:VCALENDAR
VERSION:2.0
CALSCALE:GREGORIAN
PRODID:-//Diputació de Barcelona//DibaCMS//EN
BEGIN:VEVENT
UID:6334
DTSTAMP:20260424T073254
DTSTART:20120318T180000
DTEND:20120318T000000
SUMMARY:Taca'm 2012: La tienda de los suicidas, a càrrec del Grup de Teatre Cinétika
LOCATION:
METHOD:PUBLISH
X-WR-CALNAME:caldesm@caldesdemontbui.cat
X-WR-TIMEZONE:Europe/Madrid
DESCRIPTION:
URI:https://www.caldesdemontbui.cat/actualitat/agenda/tacam-2012-la-tienda-de-los-suicidas-a-carrec-del-grup-de-teatre-cinetika.html
CLASS:PUBLIC
END:VEVENT
END:VCALENDAR
