BEGIN:VCALENDAR
VERSION:2.0
CALSCALE:GREGORIAN
PRODID:-//Diputació de Barcelona//DibaCMS//EN
BEGIN:VEVENT
UID:6332
DTSTAMP:20260424T104402
DTSTART:20120318T100000
DTEND:20120318T000000
SUMMARY:Top Manta Solidari al Mercat de l'olla i la caldera
LOCATION:
METHOD:PUBLISH
X-WR-CALNAME:caldesm@caldesdemontbui.cat
X-WR-TIMEZONE:Europe/Madrid
DESCRIPTION:
URI:https://www.caldesdemontbui.cat/actualitat/agenda/top-manta-solidari-al-mercat-de-lolla-i-la-caldera.html
CLASS:PUBLIC
END:VEVENT
END:VCALENDAR
