BEGIN:VCALENDAR
VERSION:2.0
CALSCALE:GREGORIAN
PRODID:-//Diputació de Barcelona//DibaCMS//EN
BEGIN:VEVENT
UID:6331
DTSTAMP:20260424T042442
DTSTART:20120318T073000
DTEND:20120318T000000
SUMMARY:Caminada de Caldes 2012, del Amics del Sender
LOCATION:
METHOD:PUBLISH
X-WR-CALNAME:caldesm@caldesdemontbui.cat
X-WR-TIMEZONE:Europe/Madrid
DESCRIPTION:
URI:https://www.caldesdemontbui.cat/actualitat/agenda/caminada-de-caldes-2012-del-amics-del-sender.html
CLASS:PUBLIC
END:VEVENT
END:VCALENDAR
