BEGIN:VCALENDAR
VERSION:2.0
CALSCALE:GREGORIAN
PRODID:-//Diputació de Barcelona//DibaCMS//EN
BEGIN:VEVENT
UID:6330
DTSTAMP:20260424T104609
DTSTART:20120317T183000
DTEND:20120317T000000
SUMMARY:Projecció del documental "165 Regent Street", amb presència de membres de l'equip de rodatge
LOCATION:
METHOD:PUBLISH
X-WR-CALNAME:caldesm@caldesdemontbui.cat
X-WR-TIMEZONE:Europe/Madrid
DESCRIPTION:
URI:https://www.caldesdemontbui.cat/actualitat/agenda/projeccio-del-documental-165-regent-street-amb-presencia-de-membres-de-lequip-de-rodatge.html
CLASS:PUBLIC
END:VEVENT
END:VCALENDAR
