BEGIN:VCALENDAR
VERSION:2.0
CALSCALE:GREGORIAN
PRODID:-//Diputació de Barcelona//DibaCMS//EN
BEGIN:VEVENT
UID:6329
DTSTAMP:20260424T104510
DTSTART:20120317T100000
DTEND:20120317T000000
SUMMARY:Preparem la mona: muntatge i decoració (dissabtes 17 i 24)
LOCATION:
METHOD:PUBLISH
X-WR-CALNAME:caldesm@caldesdemontbui.cat
X-WR-TIMEZONE:Europe/Madrid
DESCRIPTION:
URI:https://www.caldesdemontbui.cat/actualitat/agenda/preparem-la-mona-muntatge-i-decoracio-dissabtes-17-i-24.html
CLASS:PUBLIC
END:VEVENT
END:VCALENDAR
