BEGIN:VCALENDAR
VERSION:2.0
CALSCALE:GREGORIAN
PRODID:-//Diputació de Barcelona//DibaCMS//EN
BEGIN:VEVENT
UID:6327
DTSTAMP:20260424T085248
DTSTART:20120317T000000
DTEND:20120318T000000
SUMMARY:17 i 18 de març: Mercat de l'Olla i la Caldera a Caldes de Montbui
LOCATION:
METHOD:PUBLISH
X-WR-CALNAME:caldesm@caldesdemontbui.cat
X-WR-TIMEZONE:Europe/Madrid
DESCRIPTION:
URI:https://www.caldesdemontbui.cat/actualitat/agenda/17-i-18-de-marc-mercat-de-lolla-i-la-caldera-a-caldes-de-montbui.html
CLASS:PUBLIC
END:VEVENT
END:VCALENDAR
