BEGIN:VCALENDAR
VERSION:2.0
CALSCALE:GREGORIAN
PRODID:-//Diputació de Barcelona//DibaCMS//EN
BEGIN:VEVENT
UID:6326
DTSTAMP:20260423T212147
DTSTART:20120316T200000
DTEND:20120316T000000
SUMMARY:Exposició de fotografia "Vida i paisatge de Caldes"
LOCATION:
METHOD:PUBLISH
X-WR-CALNAME:caldesm@caldesdemontbui.cat
X-WR-TIMEZONE:Europe/Madrid
DESCRIPTION:
URI:https://www.caldesdemontbui.cat/actualitat/agenda/exposicio-de-fotografia-vida-i-paisatge-de-caldes.html
CLASS:PUBLIC
END:VEVENT
END:VCALENDAR
