BEGIN:VCALENDAR
VERSION:2.0
CALSCALE:GREGORIAN
PRODID:-//Diputació de Barcelona//DibaCMS//EN
BEGIN:VEVENT
UID:6322
DTSTAMP:20260424T085350
DTSTART:20120314T160000
DTEND:20120314T000000
SUMMARY:Els secrets de la fotografia digital II
LOCATION:
METHOD:PUBLISH
X-WR-CALNAME:caldesm@caldesdemontbui.cat
X-WR-TIMEZONE:Europe/Madrid
DESCRIPTION:
URI:https://www.caldesdemontbui.cat/actualitat/agenda/els-secrets-de-la-fotografia-digital-ii.html
CLASS:PUBLIC
END:VEVENT
END:VCALENDAR
