BEGIN:VCALENDAR
VERSION:2.0
CALSCALE:GREGORIAN
PRODID:-//Diputació de Barcelona//DibaCMS//EN
BEGIN:VEVENT
UID:6321
DTSTAMP:20260424T140822
DTSTART:20120314T150000
DTEND:20120314T000000
SUMMARY:Jornada de portes obertes a l'Escola El Farell
LOCATION:
METHOD:PUBLISH
X-WR-CALNAME:caldesm@caldesdemontbui.cat
X-WR-TIMEZONE:Europe/Madrid
DESCRIPTION:
URI:https://www.caldesdemontbui.cat/actualitat/agenda/jornada-de-portes-obertes-a-lescola-el-farell.html
CLASS:PUBLIC
END:VEVENT
END:VCALENDAR
