BEGIN:VCALENDAR
VERSION:2.0
CALSCALE:GREGORIAN
PRODID:-//Diputació de Barcelona//DibaCMS//EN
BEGIN:VEVENT
UID:6320
DTSTAMP:20260424T085025
DTSTART:20120314T090000
DTEND:20120314T000000
SUMMARY:Caminades de l'Esplai: Masia Julià i Parc Natural de Gallecs
LOCATION:
METHOD:PUBLISH
X-WR-CALNAME:caldesm@caldesdemontbui.cat
X-WR-TIMEZONE:Europe/Madrid
DESCRIPTION:
URI:https://www.caldesdemontbui.cat/actualitat/agenda/caminades-de-lesplai-masia-julia-i-parc-natural-de-gallecs.html
CLASS:PUBLIC
END:VEVENT
END:VCALENDAR
