BEGIN:VCALENDAR
VERSION:2.0
CALSCALE:GREGORIAN
PRODID:-//Diputació de Barcelona//DibaCMS//EN
BEGIN:VEVENT
UID:6319
DTSTAMP:20260424T052947
DTSTART:20120314T000000
DTEND:20120314T000000
SUMMARY:Calçotada i visita a l'Ajuntament de Valls
LOCATION:
METHOD:PUBLISH
X-WR-CALNAME:caldesm@caldesdemontbui.cat
X-WR-TIMEZONE:Europe/Madrid
DESCRIPTION:
URI:https://www.caldesdemontbui.cat/actualitat/agenda/calcotada-i-visita-a-lajuntament-de-valls.html
CLASS:PUBLIC
END:VEVENT
END:VCALENDAR
