BEGIN:VCALENDAR
VERSION:2.0
CALSCALE:GREGORIAN
PRODID:-//Diputació de Barcelona//DibaCMS//EN
BEGIN:VEVENT
UID:6318
DTSTAMP:20260424T085117
DTSTART:20120313T150000
DTEND:20120313T000000
SUMMARY:Jornada de portes obertes a l'Escola El Farell i xerrada informativa a les 17.30 h
LOCATION:
METHOD:PUBLISH
X-WR-CALNAME:caldesm@caldesdemontbui.cat
X-WR-TIMEZONE:Europe/Madrid
DESCRIPTION:
URI:https://www.caldesdemontbui.cat/actualitat/agenda/jornada-de-portes-obertes-a-lescola-el-farell-i-xerrada-informativa-a-les-1730-h.html
CLASS:PUBLIC
END:VEVENT
END:VCALENDAR
