BEGIN:VCALENDAR
VERSION:2.0
CALSCALE:GREGORIAN
PRODID:-//Diputació de Barcelona//DibaCMS//EN
BEGIN:VEVENT
UID:6317
DTSTAMP:20260424T111310
DTSTART:20120312T180000
DTEND:20120312T000000
SUMMARY:Curs d'iniciació al voluntariat (dilluns 12 i 16 de març)
LOCATION:
METHOD:PUBLISH
X-WR-CALNAME:caldesm@caldesdemontbui.cat
X-WR-TIMEZONE:Europe/Madrid
DESCRIPTION:
URI:https://www.caldesdemontbui.cat/actualitat/agenda/curs-diniciacio-al-voluntariat-dilluns-12-i-16-de-marc.html
CLASS:PUBLIC
END:VEVENT
END:VCALENDAR
