BEGIN:VCALENDAR
VERSION:2.0
CALSCALE:GREGORIAN
PRODID:-//Diputació de Barcelona//DibaCMS//EN
BEGIN:VEVENT
UID:6315
DTSTAMP:20260424T035723
DTSTART:20120311T100000
DTEND:20120311T000000
SUMMARY:Visita guiada a l'exposició Nuolot, de Màrius Gómez i sessió de fotografia de nuu. 
LOCATION:
METHOD:PUBLISH
X-WR-CALNAME:caldesm@caldesdemontbui.cat
X-WR-TIMEZONE:Europe/Madrid
DESCRIPTION:
URI:https://www.caldesdemontbui.cat/actualitat/agenda/visita-guiada-a-lexposicio-nuolot-de-marius-gomez-i-sessio-de-fotografia-de-nuu-.html
CLASS:PUBLIC
END:VEVENT
END:VCALENDAR
