BEGIN:VCALENDAR
VERSION:2.0
CALSCALE:GREGORIAN
PRODID:-//Diputació de Barcelona//DibaCMS//EN
BEGIN:VEVENT
UID:6314
DTSTAMP:20260424T104540
DTSTART:20120311T000000
DTEND:20120311T000000
SUMMARY:Caminada: recorregut pel Torrent de Cabanes a la Vall d'Estiula
LOCATION:
METHOD:PUBLISH
X-WR-CALNAME:caldesm@caldesdemontbui.cat
X-WR-TIMEZONE:Europe/Madrid
DESCRIPTION:
URI:https://www.caldesdemontbui.cat/actualitat/agenda/caminada-recorregut-pel-torrent-de-cabanes-a-la-vall-destiula.html
CLASS:PUBLIC
END:VEVENT
END:VCALENDAR
