BEGIN:VCALENDAR
VERSION:2.0
CALSCALE:GREGORIAN
PRODID:-//Diputació de Barcelona//DibaCMS//EN
BEGIN:VEVENT
UID:6313
DTSTAMP:20260423T193726
DTSTART:20120310T190000
DTEND:20120310T000000
SUMMARY:Setmana de la Guitarra. Concert dels alumnes adults de Joan Valls sota la direcció de Hirshi Fuji
LOCATION:
METHOD:PUBLISH
X-WR-CALNAME:caldesm@caldesdemontbui.cat
X-WR-TIMEZONE:Europe/Madrid
DESCRIPTION:
URI:https://www.caldesdemontbui.cat/actualitat/agenda/setmana-de-la-guitarra-concert-dels-alumnes-adults-de-joan-valls-sota-la-direccio-de-hirshi-fuji.html
CLASS:PUBLIC
END:VEVENT
END:VCALENDAR
