BEGIN:VCALENDAR
VERSION:2.0
CALSCALE:GREGORIAN
PRODID:-//Diputació de Barcelona//DibaCMS//EN
BEGIN:VEVENT
UID:6312
DTSTAMP:20260424T085226
DTSTART:20120310T110000
DTEND:20120310T000000
SUMMARY:Jornada de portes obertes a l'Institut Manolo Hugué. Xerrada informativa a les 11 h (ESO)
LOCATION:
METHOD:PUBLISH
X-WR-CALNAME:caldesm@caldesdemontbui.cat
X-WR-TIMEZONE:Europe/Madrid
DESCRIPTION:
URI:https://www.caldesdemontbui.cat/actualitat/agenda/jornada-de-portes-obertes-a-linstitut-manolo-hugue-xerrada-informativa-a-les-11-h-eso.html
CLASS:PUBLIC
END:VEVENT
END:VCALENDAR
