BEGIN:VCALENDAR
VERSION:2.0
CALSCALE:GREGORIAN
PRODID:-//Diputació de Barcelona//DibaCMS//EN
BEGIN:VEVENT
UID:6309
DTSTAMP:20260423T190921
DTSTART:20120308T210000
DTEND:20120308T000000
SUMMARY:Jornada de portes obertes a l'Escola Pia. Xerrada informativa a les 21 h (Batxillerat)
LOCATION:
METHOD:PUBLISH
X-WR-CALNAME:caldesm@caldesdemontbui.cat
X-WR-TIMEZONE:Europe/Madrid
DESCRIPTION:
URI:https://www.caldesdemontbui.cat/actualitat/agenda/jornada-de-portes-obertes-a-lescola-pia-xerrada-informativa-a-les-21-h-batxillerat.html
CLASS:PUBLIC
END:VEVENT
END:VCALENDAR
