BEGIN:VCALENDAR
VERSION:2.0
CALSCALE:GREGORIAN
PRODID:-//Diputació de Barcelona//DibaCMS//EN
BEGIN:VEVENT
UID:6306
DTSTAMP:20260424T035242
DTSTART:20120308T154500
DTEND:20120308T000000
SUMMARY:Cinefòrum obert a tothom sobre Las chicas del calendario
LOCATION:
METHOD:PUBLISH
X-WR-CALNAME:caldesm@caldesdemontbui.cat
X-WR-TIMEZONE:Europe/Madrid
DESCRIPTION:
URI:https://www.caldesdemontbui.cat/actualitat/agenda/cineforum-obert-a-tothom-sobre-las-chicas-del-calendario.html
CLASS:PUBLIC
END:VEVENT
END:VCALENDAR
