BEGIN:VCALENDAR
VERSION:2.0
CALSCALE:GREGORIAN
PRODID:-//Diputació de Barcelona//DibaCMS//EN
BEGIN:VEVENT
UID:6305
DTSTAMP:20260423T223903
DTSTART:20120307T193000
DTEND:20120307T000000
SUMMARY:Setmana de la guitarra. Concert de guitarra espanyola a càrrec de Rafel Sala 
LOCATION:
METHOD:PUBLISH
X-WR-CALNAME:caldesm@caldesdemontbui.cat
X-WR-TIMEZONE:Europe/Madrid
DESCRIPTION:
URI:https://www.caldesdemontbui.cat/actualitat/agenda/setmana-de-la-guitarra-concert-de-guitarra-espanyola-a-carrec-de-rafel-sala-.html
CLASS:PUBLIC
END:VEVENT
END:VCALENDAR
