BEGIN:VCALENDAR
VERSION:2.0
CALSCALE:GREGORIAN
PRODID:-//Diputació de Barcelona//DibaCMS//EN
BEGIN:VEVENT
UID:6304
DTSTAMP:20260423T223634
DTSTART:20120307T170000
DTEND:20120307T000000
SUMMARY:Jornada de portes obertes a l'Escola Montbui i xerrada informativa a les 17 h
LOCATION:
METHOD:PUBLISH
X-WR-CALNAME:caldesm@caldesdemontbui.cat
X-WR-TIMEZONE:Europe/Madrid
DESCRIPTION:
URI:https://www.caldesdemontbui.cat/actualitat/agenda/jornada-de-portes-obertes-a-lescola-montbui-i-xerrada-informativa-a-les-17-h.html
CLASS:PUBLIC
END:VEVENT
END:VCALENDAR
