BEGIN:VCALENDAR
VERSION:2.0
CALSCALE:GREGORIAN
PRODID:-//Diputació de Barcelona//DibaCMS//EN
BEGIN:VEVENT
UID:6302
DTSTAMP:20260423T203728
DTSTART:20120306T183000
DTEND:20120306T000000
SUMMARY:Jornada de Portes Obertes a l'Escola Pia. Xerrada Informativa a les 20 h (ESO)
LOCATION:
METHOD:PUBLISH
X-WR-CALNAME:caldesm@caldesdemontbui.cat
X-WR-TIMEZONE:Europe/Madrid
DESCRIPTION:
URI:https://www.caldesdemontbui.cat/actualitat/agenda/jornada-de-portes-obertes-a-lescola-pia-xerrada-informativa-a-les-20-h-eso.html
CLASS:PUBLIC
END:VEVENT
END:VCALENDAR
