BEGIN:VCALENDAR
VERSION:2.0
CALSCALE:GREGORIAN
PRODID:-//Diputació de Barcelona//DibaCMS//EN
BEGIN:VEVENT
UID:6300
DTSTAMP:20260423T191032
DTSTART:20120306T173000
DTEND:20120306T000000
SUMMARY:Cursos d'internet a la Biblioteca de Caldes. El curs de nivell avançat comença el 6 de març
LOCATION:
METHOD:PUBLISH
X-WR-CALNAME:caldesm@caldesdemontbui.cat
X-WR-TIMEZONE:Europe/Madrid
DESCRIPTION:
URI:https://www.caldesdemontbui.cat/actualitat/agenda/cursos-dinternet-a-la-biblioteca-de-caldes-el-curs-de-nivell-avancat-comenca-el-6-de-marc.html
CLASS:PUBLIC
END:VEVENT
END:VCALENDAR
