BEGIN:VCALENDAR
VERSION:2.0
CALSCALE:GREGORIAN
PRODID:-//Diputació de Barcelona//DibaCMS//EN
BEGIN:VEVENT
UID:6299
DTSTAMP:20260423T192807
DTSTART:20120306T153000
DTEND:20120306T000000
SUMMARY:Del 6 de març a l'1 d'abril: Exposició "Pesca i vida a la costa catalana"
LOCATION:
METHOD:PUBLISH
X-WR-CALNAME:caldesm@caldesdemontbui.cat
X-WR-TIMEZONE:Europe/Madrid
DESCRIPTION:
URI:https://www.caldesdemontbui.cat/actualitat/agenda/del-6-de-marc-a-l1-dabril-exposicio-pesca-i-vida-a-la-costa-catalana.html
CLASS:PUBLIC
END:VEVENT
END:VCALENDAR
