BEGIN:VCALENDAR
VERSION:2.0
CALSCALE:GREGORIAN
PRODID:-//Diputació de Barcelona//DibaCMS//EN
BEGIN:VEVENT
UID:6296
DTSTAMP:20260423T205618
DTSTART:20120305T163000
DTEND:20120305T000000
SUMMARY:Jornada de Portes Obertes a l'Escola El Calderí i Xerrada Informativa a les 17.30 h
LOCATION:
METHOD:PUBLISH
X-WR-CALNAME:caldesm@caldesdemontbui.cat
X-WR-TIMEZONE:Europe/Madrid
DESCRIPTION:
URI:https://www.caldesdemontbui.cat/actualitat/agenda/jornada-de-portes-obertes-a-lescola-el-calderi-i-xerrada-informativa-a-les-1730-h.html
CLASS:PUBLIC
END:VEVENT
END:VCALENDAR
