BEGIN:VCALENDAR
VERSION:2.0
CALSCALE:GREGORIAN
PRODID:-//Diputació de Barcelona//DibaCMS//EN
BEGIN:VEVENT
UID:6295
DTSTAMP:20260423T203542
DTSTART:20120304T180000
DTEND:20120304T000000
SUMMARY:Cicle Nòmades: Maleta, farcell, arpillera. Històries de migracions
LOCATION:
METHOD:PUBLISH
X-WR-CALNAME:caldesm@caldesdemontbui.cat
X-WR-TIMEZONE:Europe/Madrid
DESCRIPTION:
URI:https://www.caldesdemontbui.cat/actualitat/agenda/cicle-nomades-maleta-farcell-arpillera-histories-de-migracions.html
CLASS:PUBLIC
END:VEVENT
END:VCALENDAR
