BEGIN:VCALENDAR
VERSION:2.0
CALSCALE:GREGORIAN
PRODID:-//Diputació de Barcelona//DibaCMS//EN
BEGIN:VEVENT
UID:6294
DTSTAMP:20260423T205025
DTSTART:20120304T180000
DTEND:20120304T000000
SUMMARY:Taca'm 2012: Carinyo, tenim convidats, a càrrec de Kiut Teatre
LOCATION:
METHOD:PUBLISH
X-WR-CALNAME:caldesm@caldesdemontbui.cat
X-WR-TIMEZONE:Europe/Madrid
DESCRIPTION:
URI:https://www.caldesdemontbui.cat/actualitat/agenda/tacam-2012-carinyo-tenim-convidats-a-carrec-de-kiut-teatre.html
CLASS:PUBLIC
END:VEVENT
END:VCALENDAR
