BEGIN:VCALENDAR
VERSION:2.0
CALSCALE:GREGORIAN
PRODID:-//Diputació de Barcelona//DibaCMS//EN
BEGIN:VEVENT
UID:6293
DTSTAMP:20260423T205319
DTSTART:20120304T120000
DTEND:20120304T000000
SUMMARY:Calçotada popular
LOCATION:
METHOD:PUBLISH
X-WR-CALNAME:caldesm@caldesdemontbui.cat
X-WR-TIMEZONE:Europe/Madrid
DESCRIPTION:
URI:https://www.caldesdemontbui.cat/actualitat/agenda/calcotada-popular.html
CLASS:PUBLIC
END:VEVENT
END:VCALENDAR
