BEGIN:VCALENDAR
VERSION:2.0
CALSCALE:GREGORIAN
PRODID:-//Diputació de Barcelona//DibaCMS//EN
BEGIN:VEVENT
UID:6291
DTSTAMP:20260424T123521
DTSTART:20120303T120000
DTEND:20120303T000000
SUMMARY:Tallers petits lectors: Música i contes per als més menuts
LOCATION:
METHOD:PUBLISH
X-WR-CALNAME:caldesm@caldesdemontbui.cat
X-WR-TIMEZONE:Europe/Madrid
DESCRIPTION:
URI:https://www.caldesdemontbui.cat/actualitat/agenda/tallers-petits-lectors-msica-i-contes-per-als-mes-menuts.html
CLASS:PUBLIC
END:VEVENT
END:VCALENDAR
