BEGIN:VCALENDAR
VERSION:2.0
CALSCALE:GREGORIAN
PRODID:-//Diputació de Barcelona//DibaCMS//EN
BEGIN:VEVENT
UID:6290
DTSTAMP:20260424T085559
DTSTART:20120303T103000
DTEND:20120303T000000
SUMMARY:Jornada de portes obertes a l'Escola Pia. Xerrada informativa a les 12 h (Educació infantil 2n cicle i educació primària)
LOCATION:
METHOD:PUBLISH
X-WR-CALNAME:caldesm@caldesdemontbui.cat
X-WR-TIMEZONE:Europe/Madrid
DESCRIPTION:
URI:https://www.caldesdemontbui.cat/actualitat/agenda/jornada-de-portes-obertes-a-lescola-pia-xerrada-informativa-a-les-12-h-educacio-infantil-2n-cicle-i-educacio-primaria.html
CLASS:PUBLIC
END:VEVENT
END:VCALENDAR
