BEGIN:VCALENDAR
VERSION:2.0
CALSCALE:GREGORIAN
PRODID:-//Diputació de Barcelona//DibaCMS//EN
BEGIN:VEVENT
UID:6289
DTSTAMP:20260424T005255
DTSTART:20120301T163000
DTEND:20120301T000000
SUMMARY:Jornada de Portes Obertes a l'Escola El Calderí
LOCATION:
METHOD:PUBLISH
X-WR-CALNAME:caldesm@caldesdemontbui.cat
X-WR-TIMEZONE:Europe/Madrid
DESCRIPTION:
URI:https://www.caldesdemontbui.cat/actualitat/agenda/jornada-de-portes-obertes-a-lescola-el-calderi.html
CLASS:PUBLIC
END:VEVENT
END:VCALENDAR
