BEGIN:VCALENDAR
VERSION:2.0
CALSCALE:GREGORIAN
PRODID:-//Diputació de Barcelona//DibaCMS//EN
BEGIN:VEVENT
UID:6288
DTSTAMP:20260424T005419
DTSTART:20120301T000000
DTEND:20120301T000000
SUMMARY:Exposició de pintures de Teresa M. Vallet Colom i de Maria Andilla Fonoll. Fins el 31 de març
LOCATION:
METHOD:PUBLISH
X-WR-CALNAME:caldesm@caldesdemontbui.cat
X-WR-TIMEZONE:Europe/Madrid
DESCRIPTION:
URI:https://www.caldesdemontbui.cat/actualitat/agenda/exposicio-de-pintures-de-teresa-m-vallet-colom-i-de-maria-andilla-fonoll-fins-el-31-de-marc.html
CLASS:PUBLIC
END:VEVENT
END:VCALENDAR
