BEGIN:VCALENDAR
VERSION:2.0
CALSCALE:GREGORIAN
PRODID:-//Diputació de Barcelona//DibaCMS//EN
BEGIN:VEVENT
UID:6285
DTSTAMP:20260424T084842
DTSTART:20120229T000000
DTEND:20120229T000000
SUMMARY:Fins el 29 de febrer: NUOLOT, de Màrius Gómez, al Museu Thermalia
LOCATION:
METHOD:PUBLISH
X-WR-CALNAME:caldesm@caldesdemontbui.cat
X-WR-TIMEZONE:Europe/Madrid
DESCRIPTION:
URI:https://www.caldesdemontbui.cat/actualitat/agenda/fins-el-29-de-febrer-nuolot-de-marius-gomez-al-museu-thermalia.html
CLASS:PUBLIC
END:VEVENT
END:VCALENDAR
