BEGIN:VCALENDAR
VERSION:2.0
CALSCALE:GREGORIAN
PRODID:-//Diputació de Barcelona//DibaCMS//EN
BEGIN:VEVENT
UID:6283
DTSTAMP:20260424T040800
DTSTART:20120227T190000
DTEND:20120227T000000
SUMMARY:Club de lectura a la Biblioteca de Caldes. Xerrada sobre l'obra de Mikhaïl Bulgàkov, El Mestre i Margarida
LOCATION:
METHOD:PUBLISH
X-WR-CALNAME:caldesm@caldesdemontbui.cat
X-WR-TIMEZONE:Europe/Madrid
DESCRIPTION:
URI:https://www.caldesdemontbui.cat/actualitat/agenda/club-de-lectura-a-la-biblioteca-de-caldes-xerrada-sobre-lobra-de-mikhail-bulgakov-el-mestre-i-margarida.html
CLASS:PUBLIC
END:VEVENT
END:VCALENDAR
