BEGIN:VCALENDAR
VERSION:2.0
CALSCALE:GREGORIAN
PRODID:-//Diputació de Barcelona//DibaCMS//EN
BEGIN:VEVENT
UID:6282
DTSTAMP:20260424T123544
DTSTART:20120226T180000
DTEND:20120226T000000
SUMMARY:Espectacle 40 anys amb cançons, de la Coral Canigó
LOCATION:
METHOD:PUBLISH
X-WR-CALNAME:caldesm@caldesdemontbui.cat
X-WR-TIMEZONE:Europe/Madrid
DESCRIPTION:
URI:https://www.caldesdemontbui.cat/actualitat/agenda/espectacle-40-anys-amb-cancons-de-la-coral-canigo.html
CLASS:PUBLIC
END:VEVENT
END:VCALENDAR
