BEGIN:VCALENDAR
VERSION:2.0
CALSCALE:GREGORIAN
PRODID:-//Diputació de Barcelona//DibaCMS//EN
BEGIN:VEVENT
UID:6281
DTSTAMP:20260424T104220
DTSTART:20120226T180000
DTEND:20120226T000000
SUMMARY:Taca'm 2012. Al menys no és Nadal, a càrrec de l'Agrupació Teatral Benet Escriba
LOCATION:
METHOD:PUBLISH
X-WR-CALNAME:caldesm@caldesdemontbui.cat
X-WR-TIMEZONE:Europe/Madrid
DESCRIPTION:
URI:https://www.caldesdemontbui.cat/actualitat/agenda/tacam-2012-al-menys-no-es-nadal-a-carrec-de-lagrupacio-teatral-benet-escriba.html
CLASS:PUBLIC
END:VEVENT
END:VCALENDAR
