BEGIN:VCALENDAR
VERSION:2.0
CALSCALE:GREGORIAN
PRODID:-//Diputació de Barcelona//DibaCMS//EN
BEGIN:VEVENT
UID:6280
DTSTAMP:20260424T022606
DTSTART:20120226T000000
DTEND:20120226T000000
SUMMARY:5a etapa del Camí de Sant Jaume entre Girona i Amer
LOCATION:
METHOD:PUBLISH
X-WR-CALNAME:caldesm@caldesdemontbui.cat
X-WR-TIMEZONE:Europe/Madrid
DESCRIPTION:
URI:https://www.caldesdemontbui.cat/actualitat/agenda/5a-etapa-del-cami-de-sant-jaume-entre-girona-i-amer.html
CLASS:PUBLIC
END:VEVENT
END:VCALENDAR
