BEGIN:VCALENDAR
VERSION:2.0
CALSCALE:GREGORIAN
PRODID:-//Diputació de Barcelona//DibaCMS//EN
BEGIN:VEVENT
UID:6279
DTSTAMP:20260423T230907
DTSTART:20120225T190000
DTEND:20120225T000000
SUMMARY:Exposició de pintures SOMNIS, de Dolors Alba a la Sala Delger del 25 de febrer a l'11 de març
LOCATION:
METHOD:PUBLISH
X-WR-CALNAME:caldesm@caldesdemontbui.cat
X-WR-TIMEZONE:Europe/Madrid
DESCRIPTION:
URI:https://www.caldesdemontbui.cat/actualitat/agenda/exposicio-de-pintures-somnis-de-dolors-alba-a-la-sala-delger-del-25-de-febrer-a-l11-de-marc.html
CLASS:PUBLIC
END:VEVENT
END:VCALENDAR
